BEGIN:VCALENDAR
VERSION:2.0
PRODID:-//Embrave - ECPv6.15.20//NONSGML v1.0//EN
CALSCALE:GREGORIAN
METHOD:PUBLISH
X-ORIGINAL-URL:https://embrave.org
X-WR-CALDESC:Events for Embrave
REFRESH-INTERVAL;VALUE=DURATION:PT1H
X-Robots-Tag:noindex
X-PUBLISHED-TTL:PT1H
BEGIN:VTIMEZONE
TZID:America/Denver
BEGIN:DAYLIGHT
TZOFFSETFROM:-0700
TZOFFSETTO:-0600
TZNAME:MDT
DTSTART:20280312T090000
END:DAYLIGHT
BEGIN:STANDARD
TZOFFSETFROM:-0600
TZOFFSETTO:-0700
TZNAME:MST
DTSTART:20281105T080000
END:STANDARD
BEGIN:DAYLIGHT
TZOFFSETFROM:-0700
TZOFFSETTO:-0600
TZNAME:MDT
DTSTART:20290311T090000
END:DAYLIGHT
BEGIN:STANDARD
TZOFFSETFROM:-0600
TZOFFSETTO:-0700
TZNAME:MST
DTSTART:20291104T080000
END:STANDARD
BEGIN:DAYLIGHT
TZOFFSETFROM:-0700
TZOFFSETTO:-0600
TZNAME:MDT
DTSTART:20300310T090000
END:DAYLIGHT
BEGIN:STANDARD
TZOFFSETFROM:-0600
TZOFFSETTO:-0700
TZNAME:MST
DTSTART:20301103T080000
END:STANDARD
END:VTIMEZONE
BEGIN:VEVENT
DTSTART;TZID=America/Denver:20290312T120000
DTEND;TZID=America/Denver:20290312T143000
DTSTAMP:20260421T132719
CREATED:20250114T230131Z
LAST-MODIFIED:20250115T213910Z
UID:10000219-1868011200-1868020200@embrave.org
SUMMARY:Pathfinder Infinite
DESCRIPTION:
URL:https://embrave.org/event/pathfinder-infinite-2/2029-03-12/
LOCATION:Roberts Road Cafeteria\, 3615 Roberts Rd.\, Colorado Springs\, CO\, 80907\, United States
ATTACH;FMTTYPE=image/webp:https://embrave.org/wp-content/uploads/2025/01/Pathfinder-Mythic-Powers-scaled.webp
ORGANIZER;CN="Embrave":MAILTO:wernst@embrave.org
END:VEVENT
BEGIN:VEVENT
DTSTART;TZID=America/Denver:20290319T120000
DTEND;TZID=America/Denver:20290319T143000
DTSTAMP:20260421T132719
CREATED:20250114T230131Z
LAST-MODIFIED:20250115T213910Z
UID:10000220-1868616000-1868625000@embrave.org
SUMMARY:Pathfinder Infinite
DESCRIPTION:
URL:https://embrave.org/event/pathfinder-infinite-2/2029-03-19/
LOCATION:Roberts Road Cafeteria\, 3615 Roberts Rd.\, Colorado Springs\, CO\, 80907\, United States
ATTACH;FMTTYPE=image/webp:https://embrave.org/wp-content/uploads/2025/01/Pathfinder-Mythic-Powers-scaled.webp
ORGANIZER;CN="Embrave":MAILTO:wernst@embrave.org
END:VEVENT
BEGIN:VEVENT
DTSTART;TZID=America/Denver:20290326T120000
DTEND;TZID=America/Denver:20290326T143000
DTSTAMP:20260421T132719
CREATED:20250114T230131Z
LAST-MODIFIED:20250115T213910Z
UID:10000221-1869220800-1869229800@embrave.org
SUMMARY:Pathfinder Infinite
DESCRIPTION:
URL:https://embrave.org/event/pathfinder-infinite-2/2029-03-26/
LOCATION:Roberts Road Cafeteria\, 3615 Roberts Rd.\, Colorado Springs\, CO\, 80907\, United States
ATTACH;FMTTYPE=image/webp:https://embrave.org/wp-content/uploads/2025/01/Pathfinder-Mythic-Powers-scaled.webp
ORGANIZER;CN="Embrave":MAILTO:wernst@embrave.org
END:VEVENT
BEGIN:VEVENT
DTSTART;TZID=America/Denver:20290402T120000
DTEND;TZID=America/Denver:20290402T143000
DTSTAMP:20260421T132719
CREATED:20250114T230131Z
LAST-MODIFIED:20250115T213910Z
UID:10000222-1869825600-1869834600@embrave.org
SUMMARY:Pathfinder Infinite
DESCRIPTION:
URL:https://embrave.org/event/pathfinder-infinite-2/2029-04-02/
LOCATION:Roberts Road Cafeteria\, 3615 Roberts Rd.\, Colorado Springs\, CO\, 80907\, United States
ATTACH;FMTTYPE=image/webp:https://embrave.org/wp-content/uploads/2025/01/Pathfinder-Mythic-Powers-scaled.webp
ORGANIZER;CN="Embrave":MAILTO:wernst@embrave.org
END:VEVENT
BEGIN:VEVENT
DTSTART;TZID=America/Denver:20290409T120000
DTEND;TZID=America/Denver:20290409T143000
DTSTAMP:20260421T132719
CREATED:20250114T230131Z
LAST-MODIFIED:20250115T213910Z
UID:10000223-1870430400-1870439400@embrave.org
SUMMARY:Pathfinder Infinite
DESCRIPTION:
URL:https://embrave.org/event/pathfinder-infinite-2/2029-04-09/
LOCATION:Roberts Road Cafeteria\, 3615 Roberts Rd.\, Colorado Springs\, CO\, 80907\, United States
ATTACH;FMTTYPE=image/webp:https://embrave.org/wp-content/uploads/2025/01/Pathfinder-Mythic-Powers-scaled.webp
ORGANIZER;CN="Embrave":MAILTO:wernst@embrave.org
END:VEVENT
BEGIN:VEVENT
DTSTART;TZID=America/Denver:20290416T120000
DTEND;TZID=America/Denver:20290416T143000
DTSTAMP:20260421T132719
CREATED:20250114T230131Z
LAST-MODIFIED:20250115T213910Z
UID:10000224-1871035200-1871044200@embrave.org
SUMMARY:Pathfinder Infinite
DESCRIPTION:
URL:https://embrave.org/event/pathfinder-infinite-2/2029-04-16/
LOCATION:Roberts Road Cafeteria\, 3615 Roberts Rd.\, Colorado Springs\, CO\, 80907\, United States
ATTACH;FMTTYPE=image/webp:https://embrave.org/wp-content/uploads/2025/01/Pathfinder-Mythic-Powers-scaled.webp
ORGANIZER;CN="Embrave":MAILTO:wernst@embrave.org
END:VEVENT
BEGIN:VEVENT
DTSTART;TZID=America/Denver:20290423T120000
DTEND;TZID=America/Denver:20290423T143000
DTSTAMP:20260421T132719
CREATED:20250114T230131Z
LAST-MODIFIED:20250115T213910Z
UID:10000225-1871640000-1871649000@embrave.org
SUMMARY:Pathfinder Infinite
DESCRIPTION:
URL:https://embrave.org/event/pathfinder-infinite-2/2029-04-23/
LOCATION:Roberts Road Cafeteria\, 3615 Roberts Rd.\, Colorado Springs\, CO\, 80907\, United States
ATTACH;FMTTYPE=image/webp:https://embrave.org/wp-content/uploads/2025/01/Pathfinder-Mythic-Powers-scaled.webp
ORGANIZER;CN="Embrave":MAILTO:wernst@embrave.org
END:VEVENT
BEGIN:VEVENT
DTSTART;TZID=America/Denver:20290430T120000
DTEND;TZID=America/Denver:20290430T143000
DTSTAMP:20260421T132719
CREATED:20250114T230131Z
LAST-MODIFIED:20250115T213910Z
UID:10000226-1872244800-1872253800@embrave.org
SUMMARY:Pathfinder Infinite
DESCRIPTION:
URL:https://embrave.org/event/pathfinder-infinite-2/2029-04-30/
LOCATION:Roberts Road Cafeteria\, 3615 Roberts Rd.\, Colorado Springs\, CO\, 80907\, United States
ATTACH;FMTTYPE=image/webp:https://embrave.org/wp-content/uploads/2025/01/Pathfinder-Mythic-Powers-scaled.webp
ORGANIZER;CN="Embrave":MAILTO:wernst@embrave.org
END:VEVENT
BEGIN:VEVENT
DTSTART;TZID=America/Denver:20290507T120000
DTEND;TZID=America/Denver:20290507T143000
DTSTAMP:20260421T132719
CREATED:20250114T230131Z
LAST-MODIFIED:20250115T213910Z
UID:10000227-1872849600-1872858600@embrave.org
SUMMARY:Pathfinder Infinite
DESCRIPTION:
URL:https://embrave.org/event/pathfinder-infinite-2/2029-05-07/
LOCATION:Roberts Road Cafeteria\, 3615 Roberts Rd.\, Colorado Springs\, CO\, 80907\, United States
ATTACH;FMTTYPE=image/webp:https://embrave.org/wp-content/uploads/2025/01/Pathfinder-Mythic-Powers-scaled.webp
ORGANIZER;CN="Embrave":MAILTO:wernst@embrave.org
END:VEVENT
BEGIN:VEVENT
DTSTART;TZID=America/Denver:20290514T120000
DTEND;TZID=America/Denver:20290514T143000
DTSTAMP:20260421T132719
CREATED:20250114T230131Z
LAST-MODIFIED:20250115T213910Z
UID:10000228-1873454400-1873463400@embrave.org
SUMMARY:Pathfinder Infinite
DESCRIPTION:
URL:https://embrave.org/event/pathfinder-infinite-2/2029-05-14/
LOCATION:Roberts Road Cafeteria\, 3615 Roberts Rd.\, Colorado Springs\, CO\, 80907\, United States
ATTACH;FMTTYPE=image/webp:https://embrave.org/wp-content/uploads/2025/01/Pathfinder-Mythic-Powers-scaled.webp
ORGANIZER;CN="Embrave":MAILTO:wernst@embrave.org
END:VEVENT
BEGIN:VEVENT
DTSTART;TZID=America/Denver:20290521T120000
DTEND;TZID=America/Denver:20290521T143000
DTSTAMP:20260421T132719
CREATED:20250114T230131Z
LAST-MODIFIED:20250115T213910Z
UID:10000229-1874059200-1874068200@embrave.org
SUMMARY:Pathfinder Infinite
DESCRIPTION:
URL:https://embrave.org/event/pathfinder-infinite-2/2029-05-21/
LOCATION:Roberts Road Cafeteria\, 3615 Roberts Rd.\, Colorado Springs\, CO\, 80907\, United States
ATTACH;FMTTYPE=image/webp:https://embrave.org/wp-content/uploads/2025/01/Pathfinder-Mythic-Powers-scaled.webp
ORGANIZER;CN="Embrave":MAILTO:wernst@embrave.org
END:VEVENT
BEGIN:VEVENT
DTSTART;TZID=America/Denver:20290528T120000
DTEND;TZID=America/Denver:20290528T143000
DTSTAMP:20260421T132719
CREATED:20250114T230131Z
LAST-MODIFIED:20250115T213910Z
UID:10000230-1874664000-1874673000@embrave.org
SUMMARY:Pathfinder Infinite
DESCRIPTION:
URL:https://embrave.org/event/pathfinder-infinite-2/2029-05-28/
LOCATION:Roberts Road Cafeteria\, 3615 Roberts Rd.\, Colorado Springs\, CO\, 80907\, United States
ATTACH;FMTTYPE=image/webp:https://embrave.org/wp-content/uploads/2025/01/Pathfinder-Mythic-Powers-scaled.webp
ORGANIZER;CN="Embrave":MAILTO:wernst@embrave.org
END:VEVENT
BEGIN:VEVENT
DTSTART;TZID=America/Denver:20290604T120000
DTEND;TZID=America/Denver:20290604T143000
DTSTAMP:20260421T132719
CREATED:20250114T230131Z
LAST-MODIFIED:20250115T213910Z
UID:10000231-1875268800-1875277800@embrave.org
SUMMARY:Pathfinder Infinite
DESCRIPTION:
URL:https://embrave.org/event/pathfinder-infinite-2/2029-06-04/
LOCATION:Roberts Road Cafeteria\, 3615 Roberts Rd.\, Colorado Springs\, CO\, 80907\, United States
ATTACH;FMTTYPE=image/webp:https://embrave.org/wp-content/uploads/2025/01/Pathfinder-Mythic-Powers-scaled.webp
ORGANIZER;CN="Embrave":MAILTO:wernst@embrave.org
END:VEVENT
BEGIN:VEVENT
DTSTART;TZID=America/Denver:20290611T120000
DTEND;TZID=America/Denver:20290611T143000
DTSTAMP:20260421T132719
CREATED:20250114T230131Z
LAST-MODIFIED:20250115T213910Z
UID:10000232-1875873600-1875882600@embrave.org
SUMMARY:Pathfinder Infinite
DESCRIPTION:
URL:https://embrave.org/event/pathfinder-infinite-2/2029-06-11/
LOCATION:Roberts Road Cafeteria\, 3615 Roberts Rd.\, Colorado Springs\, CO\, 80907\, United States
ATTACH;FMTTYPE=image/webp:https://embrave.org/wp-content/uploads/2025/01/Pathfinder-Mythic-Powers-scaled.webp
ORGANIZER;CN="Embrave":MAILTO:wernst@embrave.org
END:VEVENT
BEGIN:VEVENT
DTSTART;TZID=America/Denver:20290618T120000
DTEND;TZID=America/Denver:20290618T143000
DTSTAMP:20260421T132719
CREATED:20250114T230131Z
LAST-MODIFIED:20250115T213910Z
UID:10000233-1876478400-1876487400@embrave.org
SUMMARY:Pathfinder Infinite
DESCRIPTION:
URL:https://embrave.org/event/pathfinder-infinite-2/2029-06-18/
LOCATION:Roberts Road Cafeteria\, 3615 Roberts Rd.\, Colorado Springs\, CO\, 80907\, United States
ATTACH;FMTTYPE=image/webp:https://embrave.org/wp-content/uploads/2025/01/Pathfinder-Mythic-Powers-scaled.webp
ORGANIZER;CN="Embrave":MAILTO:wernst@embrave.org
END:VEVENT
BEGIN:VEVENT
DTSTART;TZID=America/Denver:20290625T120000
DTEND;TZID=America/Denver:20290625T143000
DTSTAMP:20260421T132719
CREATED:20250114T230131Z
LAST-MODIFIED:20250115T213910Z
UID:10000234-1877083200-1877092200@embrave.org
SUMMARY:Pathfinder Infinite
DESCRIPTION:
URL:https://embrave.org/event/pathfinder-infinite-2/2029-06-25/
LOCATION:Roberts Road Cafeteria\, 3615 Roberts Rd.\, Colorado Springs\, CO\, 80907\, United States
ATTACH;FMTTYPE=image/webp:https://embrave.org/wp-content/uploads/2025/01/Pathfinder-Mythic-Powers-scaled.webp
ORGANIZER;CN="Embrave":MAILTO:wernst@embrave.org
END:VEVENT
BEGIN:VEVENT
DTSTART;TZID=America/Denver:20290702T120000
DTEND;TZID=America/Denver:20290702T143000
DTSTAMP:20260421T132719
CREATED:20250114T230131Z
LAST-MODIFIED:20250115T213910Z
UID:10000235-1877688000-1877697000@embrave.org
SUMMARY:Pathfinder Infinite
DESCRIPTION:
URL:https://embrave.org/event/pathfinder-infinite-2/2029-07-02/
LOCATION:Roberts Road Cafeteria\, 3615 Roberts Rd.\, Colorado Springs\, CO\, 80907\, United States
ATTACH;FMTTYPE=image/webp:https://embrave.org/wp-content/uploads/2025/01/Pathfinder-Mythic-Powers-scaled.webp
ORGANIZER;CN="Embrave":MAILTO:wernst@embrave.org
END:VEVENT
BEGIN:VEVENT
DTSTART;TZID=America/Denver:20290709T120000
DTEND;TZID=America/Denver:20290709T143000
DTSTAMP:20260421T132719
CREATED:20250114T230131Z
LAST-MODIFIED:20250115T213910Z
UID:10000236-1878292800-1878301800@embrave.org
SUMMARY:Pathfinder Infinite
DESCRIPTION:
URL:https://embrave.org/event/pathfinder-infinite-2/2029-07-09/
LOCATION:Roberts Road Cafeteria\, 3615 Roberts Rd.\, Colorado Springs\, CO\, 80907\, United States
ATTACH;FMTTYPE=image/webp:https://embrave.org/wp-content/uploads/2025/01/Pathfinder-Mythic-Powers-scaled.webp
ORGANIZER;CN="Embrave":MAILTO:wernst@embrave.org
END:VEVENT
BEGIN:VEVENT
DTSTART;TZID=America/Denver:20290716T120000
DTEND;TZID=America/Denver:20290716T143000
DTSTAMP:20260421T132719
CREATED:20250114T230131Z
LAST-MODIFIED:20250115T213910Z
UID:10000237-1878897600-1878906600@embrave.org
SUMMARY:Pathfinder Infinite
DESCRIPTION:
URL:https://embrave.org/event/pathfinder-infinite-2/2029-07-16/
LOCATION:Roberts Road Cafeteria\, 3615 Roberts Rd.\, Colorado Springs\, CO\, 80907\, United States
ATTACH;FMTTYPE=image/webp:https://embrave.org/wp-content/uploads/2025/01/Pathfinder-Mythic-Powers-scaled.webp
ORGANIZER;CN="Embrave":MAILTO:wernst@embrave.org
END:VEVENT
BEGIN:VEVENT
DTSTART;TZID=America/Denver:20290723T120000
DTEND;TZID=America/Denver:20290723T143000
DTSTAMP:20260421T132719
CREATED:20250114T230131Z
LAST-MODIFIED:20250115T213910Z
UID:10000238-1879502400-1879511400@embrave.org
SUMMARY:Pathfinder Infinite
DESCRIPTION:
URL:https://embrave.org/event/pathfinder-infinite-2/2029-07-23/
LOCATION:Roberts Road Cafeteria\, 3615 Roberts Rd.\, Colorado Springs\, CO\, 80907\, United States
ATTACH;FMTTYPE=image/webp:https://embrave.org/wp-content/uploads/2025/01/Pathfinder-Mythic-Powers-scaled.webp
ORGANIZER;CN="Embrave":MAILTO:wernst@embrave.org
END:VEVENT
BEGIN:VEVENT
DTSTART;TZID=America/Denver:20290730T120000
DTEND;TZID=America/Denver:20290730T143000
DTSTAMP:20260421T132719
CREATED:20250114T230131Z
LAST-MODIFIED:20250115T213910Z
UID:10000239-1880107200-1880116200@embrave.org
SUMMARY:Pathfinder Infinite
DESCRIPTION:
URL:https://embrave.org/event/pathfinder-infinite-2/2029-07-30/
LOCATION:Roberts Road Cafeteria\, 3615 Roberts Rd.\, Colorado Springs\, CO\, 80907\, United States
ATTACH;FMTTYPE=image/webp:https://embrave.org/wp-content/uploads/2025/01/Pathfinder-Mythic-Powers-scaled.webp
ORGANIZER;CN="Embrave":MAILTO:wernst@embrave.org
END:VEVENT
BEGIN:VEVENT
DTSTART;TZID=America/Denver:20290806T120000
DTEND;TZID=America/Denver:20290806T143000
DTSTAMP:20260421T132719
CREATED:20250114T230131Z
LAST-MODIFIED:20250115T213910Z
UID:10000240-1880712000-1880721000@embrave.org
SUMMARY:Pathfinder Infinite
DESCRIPTION:
URL:https://embrave.org/event/pathfinder-infinite-2/2029-08-06/
LOCATION:Roberts Road Cafeteria\, 3615 Roberts Rd.\, Colorado Springs\, CO\, 80907\, United States
ATTACH;FMTTYPE=image/webp:https://embrave.org/wp-content/uploads/2025/01/Pathfinder-Mythic-Powers-scaled.webp
ORGANIZER;CN="Embrave":MAILTO:wernst@embrave.org
END:VEVENT
BEGIN:VEVENT
DTSTART;TZID=America/Denver:20290813T120000
DTEND;TZID=America/Denver:20290813T143000
DTSTAMP:20260421T132719
CREATED:20250114T230131Z
LAST-MODIFIED:20250115T213910Z
UID:10000241-1881316800-1881325800@embrave.org
SUMMARY:Pathfinder Infinite
DESCRIPTION:
URL:https://embrave.org/event/pathfinder-infinite-2/2029-08-13/
LOCATION:Roberts Road Cafeteria\, 3615 Roberts Rd.\, Colorado Springs\, CO\, 80907\, United States
ATTACH;FMTTYPE=image/webp:https://embrave.org/wp-content/uploads/2025/01/Pathfinder-Mythic-Powers-scaled.webp
ORGANIZER;CN="Embrave":MAILTO:wernst@embrave.org
END:VEVENT
BEGIN:VEVENT
DTSTART;TZID=America/Denver:20290820T120000
DTEND;TZID=America/Denver:20290820T143000
DTSTAMP:20260421T132719
CREATED:20250114T230131Z
LAST-MODIFIED:20250115T213910Z
UID:10000242-1881921600-1881930600@embrave.org
SUMMARY:Pathfinder Infinite
DESCRIPTION:
URL:https://embrave.org/event/pathfinder-infinite-2/2029-08-20/
LOCATION:Roberts Road Cafeteria\, 3615 Roberts Rd.\, Colorado Springs\, CO\, 80907\, United States
ATTACH;FMTTYPE=image/webp:https://embrave.org/wp-content/uploads/2025/01/Pathfinder-Mythic-Powers-scaled.webp
ORGANIZER;CN="Embrave":MAILTO:wernst@embrave.org
END:VEVENT
BEGIN:VEVENT
DTSTART;TZID=America/Denver:20290827T120000
DTEND;TZID=America/Denver:20290827T143000
DTSTAMP:20260421T132719
CREATED:20250114T230131Z
LAST-MODIFIED:20250115T213910Z
UID:10000243-1882526400-1882535400@embrave.org
SUMMARY:Pathfinder Infinite
DESCRIPTION:
URL:https://embrave.org/event/pathfinder-infinite-2/2029-08-27/
LOCATION:Roberts Road Cafeteria\, 3615 Roberts Rd.\, Colorado Springs\, CO\, 80907\, United States
ATTACH;FMTTYPE=image/webp:https://embrave.org/wp-content/uploads/2025/01/Pathfinder-Mythic-Powers-scaled.webp
ORGANIZER;CN="Embrave":MAILTO:wernst@embrave.org
END:VEVENT
BEGIN:VEVENT
DTSTART;TZID=America/Denver:20290903T120000
DTEND;TZID=America/Denver:20290903T143000
DTSTAMP:20260421T132719
CREATED:20250114T230131Z
LAST-MODIFIED:20250115T213910Z
UID:10000244-1883131200-1883140200@embrave.org
SUMMARY:Pathfinder Infinite
DESCRIPTION:
URL:https://embrave.org/event/pathfinder-infinite-2/2029-09-03/
LOCATION:Roberts Road Cafeteria\, 3615 Roberts Rd.\, Colorado Springs\, CO\, 80907\, United States
ATTACH;FMTTYPE=image/webp:https://embrave.org/wp-content/uploads/2025/01/Pathfinder-Mythic-Powers-scaled.webp
ORGANIZER;CN="Embrave":MAILTO:wernst@embrave.org
END:VEVENT
BEGIN:VEVENT
DTSTART;TZID=America/Denver:20290910T120000
DTEND;TZID=America/Denver:20290910T143000
DTSTAMP:20260421T132719
CREATED:20250114T230131Z
LAST-MODIFIED:20250115T213910Z
UID:10000245-1883736000-1883745000@embrave.org
SUMMARY:Pathfinder Infinite
DESCRIPTION:
URL:https://embrave.org/event/pathfinder-infinite-2/2029-09-10/
LOCATION:Roberts Road Cafeteria\, 3615 Roberts Rd.\, Colorado Springs\, CO\, 80907\, United States
ATTACH;FMTTYPE=image/webp:https://embrave.org/wp-content/uploads/2025/01/Pathfinder-Mythic-Powers-scaled.webp
ORGANIZER;CN="Embrave":MAILTO:wernst@embrave.org
END:VEVENT
BEGIN:VEVENT
DTSTART;TZID=America/Denver:20290917T120000
DTEND;TZID=America/Denver:20290917T143000
DTSTAMP:20260421T132719
CREATED:20250114T230131Z
LAST-MODIFIED:20250115T213910Z
UID:10000246-1884340800-1884349800@embrave.org
SUMMARY:Pathfinder Infinite
DESCRIPTION:
URL:https://embrave.org/event/pathfinder-infinite-2/2029-09-17/
LOCATION:Roberts Road Cafeteria\, 3615 Roberts Rd.\, Colorado Springs\, CO\, 80907\, United States
ATTACH;FMTTYPE=image/webp:https://embrave.org/wp-content/uploads/2025/01/Pathfinder-Mythic-Powers-scaled.webp
ORGANIZER;CN="Embrave":MAILTO:wernst@embrave.org
END:VEVENT
BEGIN:VEVENT
DTSTART;TZID=America/Denver:20290924T120000
DTEND;TZID=America/Denver:20290924T143000
DTSTAMP:20260421T132719
CREATED:20250114T230131Z
LAST-MODIFIED:20250115T213910Z
UID:10000247-1884945600-1884954600@embrave.org
SUMMARY:Pathfinder Infinite
DESCRIPTION:
URL:https://embrave.org/event/pathfinder-infinite-2/2029-09-24/
LOCATION:Roberts Road Cafeteria\, 3615 Roberts Rd.\, Colorado Springs\, CO\, 80907\, United States
ATTACH;FMTTYPE=image/webp:https://embrave.org/wp-content/uploads/2025/01/Pathfinder-Mythic-Powers-scaled.webp
ORGANIZER;CN="Embrave":MAILTO:wernst@embrave.org
END:VEVENT
BEGIN:VEVENT
DTSTART;TZID=America/Denver:20291001T120000
DTEND;TZID=America/Denver:20291001T143000
DTSTAMP:20260421T132719
CREATED:20250114T230131Z
LAST-MODIFIED:20250115T213910Z
UID:10000248-1885550400-1885559400@embrave.org
SUMMARY:Pathfinder Infinite
DESCRIPTION:
URL:https://embrave.org/event/pathfinder-infinite-2/2029-10-01/
LOCATION:Roberts Road Cafeteria\, 3615 Roberts Rd.\, Colorado Springs\, CO\, 80907\, United States
ATTACH;FMTTYPE=image/webp:https://embrave.org/wp-content/uploads/2025/01/Pathfinder-Mythic-Powers-scaled.webp
ORGANIZER;CN="Embrave":MAILTO:wernst@embrave.org
END:VEVENT
END:VCALENDAR