BEGIN:VCALENDAR
VERSION:2.0
PRODID:-//Embrave - ECPv6.15.20//NONSGML v1.0//EN
CALSCALE:GREGORIAN
METHOD:PUBLISH
X-ORIGINAL-URL:https://embrave.org
X-WR-CALDESC:Events for Embrave
REFRESH-INTERVAL;VALUE=DURATION:PT1H
X-Robots-Tag:noindex
X-PUBLISHED-TTL:PT1H
BEGIN:VTIMEZONE
TZID:America/Denver
BEGIN:DAYLIGHT
TZOFFSETFROM:-0700
TZOFFSETTO:-0600
TZNAME:MDT
DTSTART:20270314T090000
END:DAYLIGHT
BEGIN:STANDARD
TZOFFSETFROM:-0600
TZOFFSETTO:-0700
TZNAME:MST
DTSTART:20271107T080000
END:STANDARD
BEGIN:DAYLIGHT
TZOFFSETFROM:-0700
TZOFFSETTO:-0600
TZNAME:MDT
DTSTART:20280312T090000
END:DAYLIGHT
BEGIN:STANDARD
TZOFFSETFROM:-0600
TZOFFSETTO:-0700
TZNAME:MST
DTSTART:20281105T080000
END:STANDARD
BEGIN:DAYLIGHT
TZOFFSETFROM:-0700
TZOFFSETTO:-0600
TZNAME:MDT
DTSTART:20290311T090000
END:DAYLIGHT
BEGIN:STANDARD
TZOFFSETFROM:-0600
TZOFFSETTO:-0700
TZNAME:MST
DTSTART:20291104T080000
END:STANDARD
BEGIN:DAYLIGHT
TZOFFSETFROM:-0700
TZOFFSETTO:-0600
TZNAME:MDT
DTSTART:20300310T090000
END:DAYLIGHT
BEGIN:STANDARD
TZOFFSETFROM:-0600
TZOFFSETTO:-0700
TZNAME:MST
DTSTART:20301103T080000
END:STANDARD
END:VTIMEZONE
BEGIN:VEVENT
DTSTART;TZID=America/Denver:20280814T120000
DTEND;TZID=America/Denver:20280814T143000
DTSTAMP:20260421T084022
CREATED:20250114T230131Z
LAST-MODIFIED:20250115T213910Z
UID:10000189-1849867200-1849876200@embrave.org
SUMMARY:Pathfinder Infinite
DESCRIPTION:
URL:https://embrave.org/event/pathfinder-infinite-2/2028-08-14/
LOCATION:Roberts Road Cafeteria\, 3615 Roberts Rd.\, Colorado Springs\, CO\, 80907\, United States
ATTACH;FMTTYPE=image/webp:https://embrave.org/wp-content/uploads/2025/01/Pathfinder-Mythic-Powers-scaled.webp
ORGANIZER;CN="Embrave":MAILTO:wernst@embrave.org
END:VEVENT
BEGIN:VEVENT
DTSTART;TZID=America/Denver:20280821T120000
DTEND;TZID=America/Denver:20280821T143000
DTSTAMP:20260421T084022
CREATED:20250114T230131Z
LAST-MODIFIED:20250115T213910Z
UID:10000190-1850472000-1850481000@embrave.org
SUMMARY:Pathfinder Infinite
DESCRIPTION:
URL:https://embrave.org/event/pathfinder-infinite-2/2028-08-21/
LOCATION:Roberts Road Cafeteria\, 3615 Roberts Rd.\, Colorado Springs\, CO\, 80907\, United States
ATTACH;FMTTYPE=image/webp:https://embrave.org/wp-content/uploads/2025/01/Pathfinder-Mythic-Powers-scaled.webp
ORGANIZER;CN="Embrave":MAILTO:wernst@embrave.org
END:VEVENT
BEGIN:VEVENT
DTSTART;TZID=America/Denver:20280828T120000
DTEND;TZID=America/Denver:20280828T143000
DTSTAMP:20260421T084022
CREATED:20250114T230131Z
LAST-MODIFIED:20250115T213910Z
UID:10000191-1851076800-1851085800@embrave.org
SUMMARY:Pathfinder Infinite
DESCRIPTION:
URL:https://embrave.org/event/pathfinder-infinite-2/2028-08-28/
LOCATION:Roberts Road Cafeteria\, 3615 Roberts Rd.\, Colorado Springs\, CO\, 80907\, United States
ATTACH;FMTTYPE=image/webp:https://embrave.org/wp-content/uploads/2025/01/Pathfinder-Mythic-Powers-scaled.webp
ORGANIZER;CN="Embrave":MAILTO:wernst@embrave.org
END:VEVENT
BEGIN:VEVENT
DTSTART;TZID=America/Denver:20280904T120000
DTEND;TZID=America/Denver:20280904T143000
DTSTAMP:20260421T084022
CREATED:20250114T230131Z
LAST-MODIFIED:20250115T213910Z
UID:10000192-1851681600-1851690600@embrave.org
SUMMARY:Pathfinder Infinite
DESCRIPTION:
URL:https://embrave.org/event/pathfinder-infinite-2/2028-09-04/
LOCATION:Roberts Road Cafeteria\, 3615 Roberts Rd.\, Colorado Springs\, CO\, 80907\, United States
ATTACH;FMTTYPE=image/webp:https://embrave.org/wp-content/uploads/2025/01/Pathfinder-Mythic-Powers-scaled.webp
ORGANIZER;CN="Embrave":MAILTO:wernst@embrave.org
END:VEVENT
BEGIN:VEVENT
DTSTART;TZID=America/Denver:20280911T120000
DTEND;TZID=America/Denver:20280911T143000
DTSTAMP:20260421T084022
CREATED:20250114T230131Z
LAST-MODIFIED:20250115T213910Z
UID:10000193-1852286400-1852295400@embrave.org
SUMMARY:Pathfinder Infinite
DESCRIPTION:
URL:https://embrave.org/event/pathfinder-infinite-2/2028-09-11/
LOCATION:Roberts Road Cafeteria\, 3615 Roberts Rd.\, Colorado Springs\, CO\, 80907\, United States
ATTACH;FMTTYPE=image/webp:https://embrave.org/wp-content/uploads/2025/01/Pathfinder-Mythic-Powers-scaled.webp
ORGANIZER;CN="Embrave":MAILTO:wernst@embrave.org
END:VEVENT
BEGIN:VEVENT
DTSTART;TZID=America/Denver:20280918T120000
DTEND;TZID=America/Denver:20280918T143000
DTSTAMP:20260421T084022
CREATED:20250114T230131Z
LAST-MODIFIED:20250115T213910Z
UID:10000194-1852891200-1852900200@embrave.org
SUMMARY:Pathfinder Infinite
DESCRIPTION:
URL:https://embrave.org/event/pathfinder-infinite-2/2028-09-18/
LOCATION:Roberts Road Cafeteria\, 3615 Roberts Rd.\, Colorado Springs\, CO\, 80907\, United States
ATTACH;FMTTYPE=image/webp:https://embrave.org/wp-content/uploads/2025/01/Pathfinder-Mythic-Powers-scaled.webp
ORGANIZER;CN="Embrave":MAILTO:wernst@embrave.org
END:VEVENT
BEGIN:VEVENT
DTSTART;TZID=America/Denver:20280925T120000
DTEND;TZID=America/Denver:20280925T143000
DTSTAMP:20260421T084022
CREATED:20250114T230131Z
LAST-MODIFIED:20250115T213910Z
UID:10000195-1853496000-1853505000@embrave.org
SUMMARY:Pathfinder Infinite
DESCRIPTION:
URL:https://embrave.org/event/pathfinder-infinite-2/2028-09-25/
LOCATION:Roberts Road Cafeteria\, 3615 Roberts Rd.\, Colorado Springs\, CO\, 80907\, United States
ATTACH;FMTTYPE=image/webp:https://embrave.org/wp-content/uploads/2025/01/Pathfinder-Mythic-Powers-scaled.webp
ORGANIZER;CN="Embrave":MAILTO:wernst@embrave.org
END:VEVENT
BEGIN:VEVENT
DTSTART;TZID=America/Denver:20281002T120000
DTEND;TZID=America/Denver:20281002T143000
DTSTAMP:20260421T084022
CREATED:20250114T230131Z
LAST-MODIFIED:20250115T213910Z
UID:10000196-1854100800-1854109800@embrave.org
SUMMARY:Pathfinder Infinite
DESCRIPTION:
URL:https://embrave.org/event/pathfinder-infinite-2/2028-10-02/
LOCATION:Roberts Road Cafeteria\, 3615 Roberts Rd.\, Colorado Springs\, CO\, 80907\, United States
ATTACH;FMTTYPE=image/webp:https://embrave.org/wp-content/uploads/2025/01/Pathfinder-Mythic-Powers-scaled.webp
ORGANIZER;CN="Embrave":MAILTO:wernst@embrave.org
END:VEVENT
BEGIN:VEVENT
DTSTART;TZID=America/Denver:20281009T120000
DTEND;TZID=America/Denver:20281009T143000
DTSTAMP:20260421T084022
CREATED:20250114T230131Z
LAST-MODIFIED:20250115T213910Z
UID:10000197-1854705600-1854714600@embrave.org
SUMMARY:Pathfinder Infinite
DESCRIPTION:
URL:https://embrave.org/event/pathfinder-infinite-2/2028-10-09/
LOCATION:Roberts Road Cafeteria\, 3615 Roberts Rd.\, Colorado Springs\, CO\, 80907\, United States
ATTACH;FMTTYPE=image/webp:https://embrave.org/wp-content/uploads/2025/01/Pathfinder-Mythic-Powers-scaled.webp
ORGANIZER;CN="Embrave":MAILTO:wernst@embrave.org
END:VEVENT
BEGIN:VEVENT
DTSTART;TZID=America/Denver:20281016T120000
DTEND;TZID=America/Denver:20281016T143000
DTSTAMP:20260421T084022
CREATED:20250114T230131Z
LAST-MODIFIED:20250115T213910Z
UID:10000198-1855310400-1855319400@embrave.org
SUMMARY:Pathfinder Infinite
DESCRIPTION:
URL:https://embrave.org/event/pathfinder-infinite-2/2028-10-16/
LOCATION:Roberts Road Cafeteria\, 3615 Roberts Rd.\, Colorado Springs\, CO\, 80907\, United States
ATTACH;FMTTYPE=image/webp:https://embrave.org/wp-content/uploads/2025/01/Pathfinder-Mythic-Powers-scaled.webp
ORGANIZER;CN="Embrave":MAILTO:wernst@embrave.org
END:VEVENT
BEGIN:VEVENT
DTSTART;TZID=America/Denver:20281023T120000
DTEND;TZID=America/Denver:20281023T143000
DTSTAMP:20260421T084022
CREATED:20250114T230131Z
LAST-MODIFIED:20250115T213910Z
UID:10000199-1855915200-1855924200@embrave.org
SUMMARY:Pathfinder Infinite
DESCRIPTION:
URL:https://embrave.org/event/pathfinder-infinite-2/2028-10-23/
LOCATION:Roberts Road Cafeteria\, 3615 Roberts Rd.\, Colorado Springs\, CO\, 80907\, United States
ATTACH;FMTTYPE=image/webp:https://embrave.org/wp-content/uploads/2025/01/Pathfinder-Mythic-Powers-scaled.webp
ORGANIZER;CN="Embrave":MAILTO:wernst@embrave.org
END:VEVENT
BEGIN:VEVENT
DTSTART;TZID=America/Denver:20281030T120000
DTEND;TZID=America/Denver:20281030T143000
DTSTAMP:20260421T084022
CREATED:20250114T230131Z
LAST-MODIFIED:20250115T213910Z
UID:10000200-1856520000-1856529000@embrave.org
SUMMARY:Pathfinder Infinite
DESCRIPTION:
URL:https://embrave.org/event/pathfinder-infinite-2/2028-10-30/
LOCATION:Roberts Road Cafeteria\, 3615 Roberts Rd.\, Colorado Springs\, CO\, 80907\, United States
ATTACH;FMTTYPE=image/webp:https://embrave.org/wp-content/uploads/2025/01/Pathfinder-Mythic-Powers-scaled.webp
ORGANIZER;CN="Embrave":MAILTO:wernst@embrave.org
END:VEVENT
BEGIN:VEVENT
DTSTART;TZID=America/Denver:20281106T120000
DTEND;TZID=America/Denver:20281106T143000
DTSTAMP:20260421T084022
CREATED:20250114T230131Z
LAST-MODIFIED:20250115T213910Z
UID:10000201-1857124800-1857133800@embrave.org
SUMMARY:Pathfinder Infinite
DESCRIPTION:
URL:https://embrave.org/event/pathfinder-infinite-2/2028-11-06/
LOCATION:Roberts Road Cafeteria\, 3615 Roberts Rd.\, Colorado Springs\, CO\, 80907\, United States
ATTACH;FMTTYPE=image/webp:https://embrave.org/wp-content/uploads/2025/01/Pathfinder-Mythic-Powers-scaled.webp
ORGANIZER;CN="Embrave":MAILTO:wernst@embrave.org
END:VEVENT
BEGIN:VEVENT
DTSTART;TZID=America/Denver:20281113T120000
DTEND;TZID=America/Denver:20281113T143000
DTSTAMP:20260421T084022
CREATED:20250114T230131Z
LAST-MODIFIED:20250115T213910Z
UID:10000202-1857729600-1857738600@embrave.org
SUMMARY:Pathfinder Infinite
DESCRIPTION:
URL:https://embrave.org/event/pathfinder-infinite-2/2028-11-13/
LOCATION:Roberts Road Cafeteria\, 3615 Roberts Rd.\, Colorado Springs\, CO\, 80907\, United States
ATTACH;FMTTYPE=image/webp:https://embrave.org/wp-content/uploads/2025/01/Pathfinder-Mythic-Powers-scaled.webp
ORGANIZER;CN="Embrave":MAILTO:wernst@embrave.org
END:VEVENT
BEGIN:VEVENT
DTSTART;TZID=America/Denver:20281120T120000
DTEND;TZID=America/Denver:20281120T143000
DTSTAMP:20260421T084022
CREATED:20250114T230131Z
LAST-MODIFIED:20250115T213910Z
UID:10000203-1858334400-1858343400@embrave.org
SUMMARY:Pathfinder Infinite
DESCRIPTION:
URL:https://embrave.org/event/pathfinder-infinite-2/2028-11-20/
LOCATION:Roberts Road Cafeteria\, 3615 Roberts Rd.\, Colorado Springs\, CO\, 80907\, United States
ATTACH;FMTTYPE=image/webp:https://embrave.org/wp-content/uploads/2025/01/Pathfinder-Mythic-Powers-scaled.webp
ORGANIZER;CN="Embrave":MAILTO:wernst@embrave.org
END:VEVENT
BEGIN:VEVENT
DTSTART;TZID=America/Denver:20281127T120000
DTEND;TZID=America/Denver:20281127T143000
DTSTAMP:20260421T084022
CREATED:20250114T230131Z
LAST-MODIFIED:20250115T213910Z
UID:10000204-1858939200-1858948200@embrave.org
SUMMARY:Pathfinder Infinite
DESCRIPTION:
URL:https://embrave.org/event/pathfinder-infinite-2/2028-11-27/
LOCATION:Roberts Road Cafeteria\, 3615 Roberts Rd.\, Colorado Springs\, CO\, 80907\, United States
ATTACH;FMTTYPE=image/webp:https://embrave.org/wp-content/uploads/2025/01/Pathfinder-Mythic-Powers-scaled.webp
ORGANIZER;CN="Embrave":MAILTO:wernst@embrave.org
END:VEVENT
BEGIN:VEVENT
DTSTART;TZID=America/Denver:20281204T120000
DTEND;TZID=America/Denver:20281204T143000
DTSTAMP:20260421T084022
CREATED:20250114T230131Z
LAST-MODIFIED:20250115T213910Z
UID:10000205-1859544000-1859553000@embrave.org
SUMMARY:Pathfinder Infinite
DESCRIPTION:
URL:https://embrave.org/event/pathfinder-infinite-2/2028-12-04/
LOCATION:Roberts Road Cafeteria\, 3615 Roberts Rd.\, Colorado Springs\, CO\, 80907\, United States
ATTACH;FMTTYPE=image/webp:https://embrave.org/wp-content/uploads/2025/01/Pathfinder-Mythic-Powers-scaled.webp
ORGANIZER;CN="Embrave":MAILTO:wernst@embrave.org
END:VEVENT
BEGIN:VEVENT
DTSTART;TZID=America/Denver:20281211T120000
DTEND;TZID=America/Denver:20281211T143000
DTSTAMP:20260421T084022
CREATED:20250114T230131Z
LAST-MODIFIED:20250115T213910Z
UID:10000206-1860148800-1860157800@embrave.org
SUMMARY:Pathfinder Infinite
DESCRIPTION:
URL:https://embrave.org/event/pathfinder-infinite-2/2028-12-11/
LOCATION:Roberts Road Cafeteria\, 3615 Roberts Rd.\, Colorado Springs\, CO\, 80907\, United States
ATTACH;FMTTYPE=image/webp:https://embrave.org/wp-content/uploads/2025/01/Pathfinder-Mythic-Powers-scaled.webp
ORGANIZER;CN="Embrave":MAILTO:wernst@embrave.org
END:VEVENT
BEGIN:VEVENT
DTSTART;TZID=America/Denver:20281218T120000
DTEND;TZID=America/Denver:20281218T143000
DTSTAMP:20260421T084022
CREATED:20250114T230131Z
LAST-MODIFIED:20250115T213910Z
UID:10000207-1860753600-1860762600@embrave.org
SUMMARY:Pathfinder Infinite
DESCRIPTION:
URL:https://embrave.org/event/pathfinder-infinite-2/2028-12-18/
LOCATION:Roberts Road Cafeteria\, 3615 Roberts Rd.\, Colorado Springs\, CO\, 80907\, United States
ATTACH;FMTTYPE=image/webp:https://embrave.org/wp-content/uploads/2025/01/Pathfinder-Mythic-Powers-scaled.webp
ORGANIZER;CN="Embrave":MAILTO:wernst@embrave.org
END:VEVENT
BEGIN:VEVENT
DTSTART;TZID=America/Denver:20281225T120000
DTEND;TZID=America/Denver:20281225T143000
DTSTAMP:20260421T084022
CREATED:20250114T230131Z
LAST-MODIFIED:20250115T213910Z
UID:10000208-1861358400-1861367400@embrave.org
SUMMARY:Pathfinder Infinite
DESCRIPTION:
URL:https://embrave.org/event/pathfinder-infinite-2/2028-12-25/
LOCATION:Roberts Road Cafeteria\, 3615 Roberts Rd.\, Colorado Springs\, CO\, 80907\, United States
ATTACH;FMTTYPE=image/webp:https://embrave.org/wp-content/uploads/2025/01/Pathfinder-Mythic-Powers-scaled.webp
ORGANIZER;CN="Embrave":MAILTO:wernst@embrave.org
END:VEVENT
BEGIN:VEVENT
DTSTART;TZID=America/Denver:20290101T120000
DTEND;TZID=America/Denver:20290101T143000
DTSTAMP:20260421T084022
CREATED:20250114T230131Z
LAST-MODIFIED:20250115T213910Z
UID:10000209-1861963200-1861972200@embrave.org
SUMMARY:Pathfinder Infinite
DESCRIPTION:
URL:https://embrave.org/event/pathfinder-infinite-2/2029-01-01/
LOCATION:Roberts Road Cafeteria\, 3615 Roberts Rd.\, Colorado Springs\, CO\, 80907\, United States
ATTACH;FMTTYPE=image/webp:https://embrave.org/wp-content/uploads/2025/01/Pathfinder-Mythic-Powers-scaled.webp
ORGANIZER;CN="Embrave":MAILTO:wernst@embrave.org
END:VEVENT
BEGIN:VEVENT
DTSTART;TZID=America/Denver:20290108T120000
DTEND;TZID=America/Denver:20290108T143000
DTSTAMP:20260421T084022
CREATED:20250114T230131Z
LAST-MODIFIED:20250115T213910Z
UID:10000210-1862568000-1862577000@embrave.org
SUMMARY:Pathfinder Infinite
DESCRIPTION:
URL:https://embrave.org/event/pathfinder-infinite-2/2029-01-08/
LOCATION:Roberts Road Cafeteria\, 3615 Roberts Rd.\, Colorado Springs\, CO\, 80907\, United States
ATTACH;FMTTYPE=image/webp:https://embrave.org/wp-content/uploads/2025/01/Pathfinder-Mythic-Powers-scaled.webp
ORGANIZER;CN="Embrave":MAILTO:wernst@embrave.org
END:VEVENT
BEGIN:VEVENT
DTSTART;TZID=America/Denver:20290115T120000
DTEND;TZID=America/Denver:20290115T143000
DTSTAMP:20260421T084022
CREATED:20250114T230131Z
LAST-MODIFIED:20250115T213910Z
UID:10000211-1863172800-1863181800@embrave.org
SUMMARY:Pathfinder Infinite
DESCRIPTION:
URL:https://embrave.org/event/pathfinder-infinite-2/2029-01-15/
LOCATION:Roberts Road Cafeteria\, 3615 Roberts Rd.\, Colorado Springs\, CO\, 80907\, United States
ATTACH;FMTTYPE=image/webp:https://embrave.org/wp-content/uploads/2025/01/Pathfinder-Mythic-Powers-scaled.webp
ORGANIZER;CN="Embrave":MAILTO:wernst@embrave.org
END:VEVENT
BEGIN:VEVENT
DTSTART;TZID=America/Denver:20290122T120000
DTEND;TZID=America/Denver:20290122T143000
DTSTAMP:20260421T084022
CREATED:20250114T230131Z
LAST-MODIFIED:20250115T213910Z
UID:10000212-1863777600-1863786600@embrave.org
SUMMARY:Pathfinder Infinite
DESCRIPTION:
URL:https://embrave.org/event/pathfinder-infinite-2/2029-01-22/
LOCATION:Roberts Road Cafeteria\, 3615 Roberts Rd.\, Colorado Springs\, CO\, 80907\, United States
ATTACH;FMTTYPE=image/webp:https://embrave.org/wp-content/uploads/2025/01/Pathfinder-Mythic-Powers-scaled.webp
ORGANIZER;CN="Embrave":MAILTO:wernst@embrave.org
END:VEVENT
BEGIN:VEVENT
DTSTART;TZID=America/Denver:20290129T120000
DTEND;TZID=America/Denver:20290129T143000
DTSTAMP:20260421T084022
CREATED:20250114T230131Z
LAST-MODIFIED:20250115T213910Z
UID:10000213-1864382400-1864391400@embrave.org
SUMMARY:Pathfinder Infinite
DESCRIPTION:
URL:https://embrave.org/event/pathfinder-infinite-2/2029-01-29/
LOCATION:Roberts Road Cafeteria\, 3615 Roberts Rd.\, Colorado Springs\, CO\, 80907\, United States
ATTACH;FMTTYPE=image/webp:https://embrave.org/wp-content/uploads/2025/01/Pathfinder-Mythic-Powers-scaled.webp
ORGANIZER;CN="Embrave":MAILTO:wernst@embrave.org
END:VEVENT
BEGIN:VEVENT
DTSTART;TZID=America/Denver:20290205T120000
DTEND;TZID=America/Denver:20290205T143000
DTSTAMP:20260421T084022
CREATED:20250114T230131Z
LAST-MODIFIED:20250115T213910Z
UID:10000214-1864987200-1864996200@embrave.org
SUMMARY:Pathfinder Infinite
DESCRIPTION:
URL:https://embrave.org/event/pathfinder-infinite-2/2029-02-05/
LOCATION:Roberts Road Cafeteria\, 3615 Roberts Rd.\, Colorado Springs\, CO\, 80907\, United States
ATTACH;FMTTYPE=image/webp:https://embrave.org/wp-content/uploads/2025/01/Pathfinder-Mythic-Powers-scaled.webp
ORGANIZER;CN="Embrave":MAILTO:wernst@embrave.org
END:VEVENT
BEGIN:VEVENT
DTSTART;TZID=America/Denver:20290212T120000
DTEND;TZID=America/Denver:20290212T143000
DTSTAMP:20260421T084022
CREATED:20250114T230131Z
LAST-MODIFIED:20250115T213910Z
UID:10000215-1865592000-1865601000@embrave.org
SUMMARY:Pathfinder Infinite
DESCRIPTION:
URL:https://embrave.org/event/pathfinder-infinite-2/2029-02-12/
LOCATION:Roberts Road Cafeteria\, 3615 Roberts Rd.\, Colorado Springs\, CO\, 80907\, United States
ATTACH;FMTTYPE=image/webp:https://embrave.org/wp-content/uploads/2025/01/Pathfinder-Mythic-Powers-scaled.webp
ORGANIZER;CN="Embrave":MAILTO:wernst@embrave.org
END:VEVENT
BEGIN:VEVENT
DTSTART;TZID=America/Denver:20290219T120000
DTEND;TZID=America/Denver:20290219T143000
DTSTAMP:20260421T084022
CREATED:20250114T230131Z
LAST-MODIFIED:20250115T213910Z
UID:10000216-1866196800-1866205800@embrave.org
SUMMARY:Pathfinder Infinite
DESCRIPTION:
URL:https://embrave.org/event/pathfinder-infinite-2/2029-02-19/
LOCATION:Roberts Road Cafeteria\, 3615 Roberts Rd.\, Colorado Springs\, CO\, 80907\, United States
ATTACH;FMTTYPE=image/webp:https://embrave.org/wp-content/uploads/2025/01/Pathfinder-Mythic-Powers-scaled.webp
ORGANIZER;CN="Embrave":MAILTO:wernst@embrave.org
END:VEVENT
BEGIN:VEVENT
DTSTART;TZID=America/Denver:20290226T120000
DTEND;TZID=America/Denver:20290226T143000
DTSTAMP:20260421T084022
CREATED:20250114T230131Z
LAST-MODIFIED:20250115T213910Z
UID:10000217-1866801600-1866810600@embrave.org
SUMMARY:Pathfinder Infinite
DESCRIPTION:
URL:https://embrave.org/event/pathfinder-infinite-2/2029-02-26/
LOCATION:Roberts Road Cafeteria\, 3615 Roberts Rd.\, Colorado Springs\, CO\, 80907\, United States
ATTACH;FMTTYPE=image/webp:https://embrave.org/wp-content/uploads/2025/01/Pathfinder-Mythic-Powers-scaled.webp
ORGANIZER;CN="Embrave":MAILTO:wernst@embrave.org
END:VEVENT
BEGIN:VEVENT
DTSTART;TZID=America/Denver:20290305T120000
DTEND;TZID=America/Denver:20290305T143000
DTSTAMP:20260421T084022
CREATED:20250114T230131Z
LAST-MODIFIED:20250115T213910Z
UID:10000218-1867406400-1867415400@embrave.org
SUMMARY:Pathfinder Infinite
DESCRIPTION:
URL:https://embrave.org/event/pathfinder-infinite-2/2029-03-05/
LOCATION:Roberts Road Cafeteria\, 3615 Roberts Rd.\, Colorado Springs\, CO\, 80907\, United States
ATTACH;FMTTYPE=image/webp:https://embrave.org/wp-content/uploads/2025/01/Pathfinder-Mythic-Powers-scaled.webp
ORGANIZER;CN="Embrave":MAILTO:wernst@embrave.org
END:VEVENT
END:VCALENDAR