BEGIN:VCALENDAR
VERSION:2.0
PRODID:-//Embrave - ECPv6.15.20//NONSGML v1.0//EN
CALSCALE:GREGORIAN
METHOD:PUBLISH
X-WR-CALNAME:Embrave
X-ORIGINAL-URL:https://embrave.org
X-WR-CALDESC:Events for Embrave
REFRESH-INTERVAL;VALUE=DURATION:PT1H
X-Robots-Tag:noindex
X-PUBLISHED-TTL:PT1H
BEGIN:VTIMEZONE
TZID:America/Denver
BEGIN:DAYLIGHT
TZOFFSETFROM:-0700
TZOFFSETTO:-0600
TZNAME:MDT
DTSTART:20250309T090000
END:DAYLIGHT
BEGIN:STANDARD
TZOFFSETFROM:-0600
TZOFFSETTO:-0700
TZNAME:MST
DTSTART:20251102T080000
END:STANDARD
BEGIN:DAYLIGHT
TZOFFSETFROM:-0700
TZOFFSETTO:-0600
TZNAME:MDT
DTSTART:20260308T090000
END:DAYLIGHT
BEGIN:STANDARD
TZOFFSETFROM:-0600
TZOFFSETTO:-0700
TZNAME:MST
DTSTART:20261101T080000
END:STANDARD
BEGIN:DAYLIGHT
TZOFFSETFROM:-0700
TZOFFSETTO:-0600
TZNAME:MDT
DTSTART:20270314T090000
END:DAYLIGHT
BEGIN:STANDARD
TZOFFSETFROM:-0600
TZOFFSETTO:-0700
TZNAME:MST
DTSTART:20271107T080000
END:STANDARD
END:VTIMEZONE
BEGIN:VEVENT
DTSTART;TZID=America/Denver:20260803T120000
DTEND;TZID=America/Denver:20260803T143000
DTSTAMP:20260422T044446
CREATED:20250114T230131Z
LAST-MODIFIED:20250115T213910Z
UID:10000083-1785758400-1785767400@embrave.org
SUMMARY:Pathfinder Infinite
DESCRIPTION:
URL:https://embrave.org/event/pathfinder-infinite-2/2026-08-03/
LOCATION:Roberts Road Cafeteria\, 3615 Roberts Rd.\, Colorado Springs\, CO\, 80907\, United States
ATTACH;FMTTYPE=image/webp:https://embrave.org/wp-content/uploads/2025/01/Pathfinder-Mythic-Powers-scaled.webp
ORGANIZER;CN="Embrave":MAILTO:wernst@embrave.org
END:VEVENT
BEGIN:VEVENT
DTSTART;TZID=America/Denver:20260810T120000
DTEND;TZID=America/Denver:20260810T143000
DTSTAMP:20260422T044446
CREATED:20250114T230131Z
LAST-MODIFIED:20250115T213910Z
UID:10000084-1786363200-1786372200@embrave.org
SUMMARY:Pathfinder Infinite
DESCRIPTION:
URL:https://embrave.org/event/pathfinder-infinite-2/2026-08-10/
LOCATION:Roberts Road Cafeteria\, 3615 Roberts Rd.\, Colorado Springs\, CO\, 80907\, United States
ATTACH;FMTTYPE=image/webp:https://embrave.org/wp-content/uploads/2025/01/Pathfinder-Mythic-Powers-scaled.webp
ORGANIZER;CN="Embrave":MAILTO:wernst@embrave.org
END:VEVENT
BEGIN:VEVENT
DTSTART;TZID=America/Denver:20260817T120000
DTEND;TZID=America/Denver:20260817T143000
DTSTAMP:20260422T044446
CREATED:20250114T230131Z
LAST-MODIFIED:20250115T213910Z
UID:10000085-1786968000-1786977000@embrave.org
SUMMARY:Pathfinder Infinite
DESCRIPTION:
URL:https://embrave.org/event/pathfinder-infinite-2/2026-08-17/
LOCATION:Roberts Road Cafeteria\, 3615 Roberts Rd.\, Colorado Springs\, CO\, 80907\, United States
ATTACH;FMTTYPE=image/webp:https://embrave.org/wp-content/uploads/2025/01/Pathfinder-Mythic-Powers-scaled.webp
ORGANIZER;CN="Embrave":MAILTO:wernst@embrave.org
END:VEVENT
BEGIN:VEVENT
DTSTART;TZID=America/Denver:20260824T120000
DTEND;TZID=America/Denver:20260824T143000
DTSTAMP:20260422T044446
CREATED:20250114T230131Z
LAST-MODIFIED:20250115T213910Z
UID:10000086-1787572800-1787581800@embrave.org
SUMMARY:Pathfinder Infinite
DESCRIPTION:
URL:https://embrave.org/event/pathfinder-infinite-2/2026-08-24/
LOCATION:Roberts Road Cafeteria\, 3615 Roberts Rd.\, Colorado Springs\, CO\, 80907\, United States
ATTACH;FMTTYPE=image/webp:https://embrave.org/wp-content/uploads/2025/01/Pathfinder-Mythic-Powers-scaled.webp
ORGANIZER;CN="Embrave":MAILTO:wernst@embrave.org
END:VEVENT
BEGIN:VEVENT
DTSTART;TZID=America/Denver:20260831T120000
DTEND;TZID=America/Denver:20260831T143000
DTSTAMP:20260422T044446
CREATED:20250114T230131Z
LAST-MODIFIED:20250115T213910Z
UID:10000087-1788177600-1788186600@embrave.org
SUMMARY:Pathfinder Infinite
DESCRIPTION:
URL:https://embrave.org/event/pathfinder-infinite-2/2026-08-31/
LOCATION:Roberts Road Cafeteria\, 3615 Roberts Rd.\, Colorado Springs\, CO\, 80907\, United States
ATTACH;FMTTYPE=image/webp:https://embrave.org/wp-content/uploads/2025/01/Pathfinder-Mythic-Powers-scaled.webp
ORGANIZER;CN="Embrave":MAILTO:wernst@embrave.org
END:VEVENT
END:VCALENDAR