BEGIN:VCALENDAR
VERSION:2.0
PRODID:-//Embrave - ECPv6.15.20//NONSGML v1.0//EN
CALSCALE:GREGORIAN
METHOD:PUBLISH
X-WR-CALNAME:Embrave
X-ORIGINAL-URL:https://embrave.org
X-WR-CALDESC:Events for Embrave
REFRESH-INTERVAL;VALUE=DURATION:PT1H
X-Robots-Tag:noindex
X-PUBLISHED-TTL:PT1H
BEGIN:VTIMEZONE
TZID:America/Denver
BEGIN:DAYLIGHT
TZOFFSETFROM:-0700
TZOFFSETTO:-0600
TZNAME:MDT
DTSTART:20240310T090000
END:DAYLIGHT
BEGIN:STANDARD
TZOFFSETFROM:-0600
TZOFFSETTO:-0700
TZNAME:MST
DTSTART:20241103T080000
END:STANDARD
BEGIN:DAYLIGHT
TZOFFSETFROM:-0700
TZOFFSETTO:-0600
TZNAME:MDT
DTSTART:20250309T090000
END:DAYLIGHT
BEGIN:STANDARD
TZOFFSETFROM:-0600
TZOFFSETTO:-0700
TZNAME:MST
DTSTART:20251102T080000
END:STANDARD
BEGIN:DAYLIGHT
TZOFFSETFROM:-0700
TZOFFSETTO:-0600
TZNAME:MDT
DTSTART:20260308T090000
END:DAYLIGHT
BEGIN:STANDARD
TZOFFSETFROM:-0600
TZOFFSETTO:-0700
TZNAME:MST
DTSTART:20261101T080000
END:STANDARD
END:VTIMEZONE
BEGIN:VEVENT
DTSTART;TZID=America/Denver:20251101T090000
DTEND;TZID=America/Denver:20251101T220000
DTSTAMP:20260422T061257
CREATED:20250116T003832Z
LAST-MODIFIED:20250116T003832Z
UID:10000305-1761987600-1762034400@embrave.org
SUMMARY:7 Habits of Highly Effective People
DESCRIPTION:Transform your life with 7 Habits!
URL:https://embrave.org/event/7-habits-of-highly-effective-people/2025-11-01/
LOCATION:Roberts Road Cafeteria\, 3615 Roberts Rd.\, Colorado Springs\, CO\, 80907\, United States
ATTACH;FMTTYPE=image/webp:https://embrave.org/wp-content/uploads/2025/01/7-Habits-Flyer.webp
ORGANIZER;CN="Embrave":MAILTO:wernst@embrave.org
END:VEVENT
BEGIN:VEVENT
DTSTART;TZID=America/Denver:20251103T120000
DTEND;TZID=America/Denver:20251103T143000
DTSTAMP:20260422T061257
CREATED:20250114T230131Z
LAST-MODIFIED:20250115T213910Z
UID:10000044-1762171200-1762180200@embrave.org
SUMMARY:Pathfinder Infinite
DESCRIPTION:
URL:https://embrave.org/event/pathfinder-infinite-2/2025-11-03/
LOCATION:Roberts Road Cafeteria\, 3615 Roberts Rd.\, Colorado Springs\, CO\, 80907\, United States
ATTACH;FMTTYPE=image/webp:https://embrave.org/wp-content/uploads/2025/01/Pathfinder-Mythic-Powers-scaled.webp
ORGANIZER;CN="Embrave":MAILTO:wernst@embrave.org
END:VEVENT
BEGIN:VEVENT
DTSTART;TZID=America/Denver:20251108T090000
DTEND;TZID=America/Denver:20251108T220000
DTSTAMP:20260422T061257
CREATED:20250116T003832Z
LAST-MODIFIED:20250116T003832Z
UID:10000306-1762592400-1762639200@embrave.org
SUMMARY:7 Habits of Highly Effective People
DESCRIPTION:Transform your life with 7 Habits!
URL:https://embrave.org/event/7-habits-of-highly-effective-people/2025-11-08/
LOCATION:Roberts Road Cafeteria\, 3615 Roberts Rd.\, Colorado Springs\, CO\, 80907\, United States
ATTACH;FMTTYPE=image/webp:https://embrave.org/wp-content/uploads/2025/01/7-Habits-Flyer.webp
ORGANIZER;CN="Embrave":MAILTO:wernst@embrave.org
END:VEVENT
BEGIN:VEVENT
DTSTART;TZID=America/Denver:20251110T120000
DTEND;TZID=America/Denver:20251110T143000
DTSTAMP:20260422T061257
CREATED:20250114T230131Z
LAST-MODIFIED:20250115T213910Z
UID:10000045-1762776000-1762785000@embrave.org
SUMMARY:Pathfinder Infinite
DESCRIPTION:
URL:https://embrave.org/event/pathfinder-infinite-2/2025-11-10/
LOCATION:Roberts Road Cafeteria\, 3615 Roberts Rd.\, Colorado Springs\, CO\, 80907\, United States
ATTACH;FMTTYPE=image/webp:https://embrave.org/wp-content/uploads/2025/01/Pathfinder-Mythic-Powers-scaled.webp
ORGANIZER;CN="Embrave":MAILTO:wernst@embrave.org
END:VEVENT
BEGIN:VEVENT
DTSTART;TZID=America/Denver:20251115T090000
DTEND;TZID=America/Denver:20251115T220000
DTSTAMP:20260422T061257
CREATED:20250116T003832Z
LAST-MODIFIED:20250116T003832Z
UID:10000307-1763197200-1763244000@embrave.org
SUMMARY:7 Habits of Highly Effective People
DESCRIPTION:Transform your life with 7 Habits!
URL:https://embrave.org/event/7-habits-of-highly-effective-people/2025-11-15/
LOCATION:Roberts Road Cafeteria\, 3615 Roberts Rd.\, Colorado Springs\, CO\, 80907\, United States
ATTACH;FMTTYPE=image/webp:https://embrave.org/wp-content/uploads/2025/01/7-Habits-Flyer.webp
ORGANIZER;CN="Embrave":MAILTO:wernst@embrave.org
END:VEVENT
BEGIN:VEVENT
DTSTART;TZID=America/Denver:20251117T120000
DTEND;TZID=America/Denver:20251117T143000
DTSTAMP:20260422T061257
CREATED:20250114T230131Z
LAST-MODIFIED:20250115T213910Z
UID:10000046-1763380800-1763389800@embrave.org
SUMMARY:Pathfinder Infinite
DESCRIPTION:
URL:https://embrave.org/event/pathfinder-infinite-2/2025-11-17/
LOCATION:Roberts Road Cafeteria\, 3615 Roberts Rd.\, Colorado Springs\, CO\, 80907\, United States
ATTACH;FMTTYPE=image/webp:https://embrave.org/wp-content/uploads/2025/01/Pathfinder-Mythic-Powers-scaled.webp
ORGANIZER;CN="Embrave":MAILTO:wernst@embrave.org
END:VEVENT
BEGIN:VEVENT
DTSTART;TZID=America/Denver:20251122T090000
DTEND;TZID=America/Denver:20251122T220000
DTSTAMP:20260422T061257
CREATED:20250116T003832Z
LAST-MODIFIED:20250116T003832Z
UID:10000308-1763802000-1763848800@embrave.org
SUMMARY:7 Habits of Highly Effective People
DESCRIPTION:Transform your life with 7 Habits!
URL:https://embrave.org/event/7-habits-of-highly-effective-people/2025-11-22/
LOCATION:Roberts Road Cafeteria\, 3615 Roberts Rd.\, Colorado Springs\, CO\, 80907\, United States
ATTACH;FMTTYPE=image/webp:https://embrave.org/wp-content/uploads/2025/01/7-Habits-Flyer.webp
ORGANIZER;CN="Embrave":MAILTO:wernst@embrave.org
END:VEVENT
BEGIN:VEVENT
DTSTART;TZID=America/Denver:20251124T120000
DTEND;TZID=America/Denver:20251124T143000
DTSTAMP:20260422T061257
CREATED:20250114T230131Z
LAST-MODIFIED:20250115T213910Z
UID:10000047-1763985600-1763994600@embrave.org
SUMMARY:Pathfinder Infinite
DESCRIPTION:
URL:https://embrave.org/event/pathfinder-infinite-2/2025-11-24/
LOCATION:Roberts Road Cafeteria\, 3615 Roberts Rd.\, Colorado Springs\, CO\, 80907\, United States
ATTACH;FMTTYPE=image/webp:https://embrave.org/wp-content/uploads/2025/01/Pathfinder-Mythic-Powers-scaled.webp
ORGANIZER;CN="Embrave":MAILTO:wernst@embrave.org
END:VEVENT
BEGIN:VEVENT
DTSTART;TZID=America/Denver:20251129T090000
DTEND;TZID=America/Denver:20251129T220000
DTSTAMP:20260422T061257
CREATED:20250116T003832Z
LAST-MODIFIED:20250116T003832Z
UID:10000309-1764406800-1764453600@embrave.org
SUMMARY:7 Habits of Highly Effective People
DESCRIPTION:Transform your life with 7 Habits!
URL:https://embrave.org/event/7-habits-of-highly-effective-people/2025-11-29/
LOCATION:Roberts Road Cafeteria\, 3615 Roberts Rd.\, Colorado Springs\, CO\, 80907\, United States
ATTACH;FMTTYPE=image/webp:https://embrave.org/wp-content/uploads/2025/01/7-Habits-Flyer.webp
ORGANIZER;CN="Embrave":MAILTO:wernst@embrave.org
END:VEVENT
END:VCALENDAR