BEGIN:VCALENDAR
VERSION:2.0
PRODID:-//Embrave - ECPv6.15.20//NONSGML v1.0//EN
CALSCALE:GREGORIAN
METHOD:PUBLISH
X-ORIGINAL-URL:https://embrave.org
X-WR-CALDESC:Events for Embrave
REFRESH-INTERVAL;VALUE=DURATION:PT1H
X-Robots-Tag:noindex
X-PUBLISHED-TTL:PT1H
BEGIN:VTIMEZONE
TZID:America/Denver
BEGIN:DAYLIGHT
TZOFFSETFROM:-0700
TZOFFSETTO:-0600
TZNAME:MDT
DTSTART:20240310T090000
END:DAYLIGHT
BEGIN:STANDARD
TZOFFSETFROM:-0600
TZOFFSETTO:-0700
TZNAME:MST
DTSTART:20241103T080000
END:STANDARD
BEGIN:DAYLIGHT
TZOFFSETFROM:-0700
TZOFFSETTO:-0600
TZNAME:MDT
DTSTART:20250309T090000
END:DAYLIGHT
BEGIN:STANDARD
TZOFFSETFROM:-0600
TZOFFSETTO:-0700
TZNAME:MST
DTSTART:20251102T080000
END:STANDARD
BEGIN:DAYLIGHT
TZOFFSETFROM:-0700
TZOFFSETTO:-0600
TZNAME:MDT
DTSTART:20260308T090000
END:DAYLIGHT
BEGIN:STANDARD
TZOFFSETFROM:-0600
TZOFFSETTO:-0700
TZNAME:MST
DTSTART:20261101T080000
END:STANDARD
END:VTIMEZONE
BEGIN:VEVENT
DTSTART;TZID=America/Denver:20250201T090000
DTEND;TZID=America/Denver:20250201T220000
DTSTAMP:20260422T194116
CREATED:20250116T003832Z
LAST-MODIFIED:20250116T003832Z
UID:10000266-1738400400-1738447200@embrave.org
SUMMARY:7 Habits of Highly Effective People
DESCRIPTION:Transform your life with 7 Habits!
URL:https://embrave.org/event/7-habits-of-highly-effective-people/2025-02-01/
LOCATION:Roberts Road Cafeteria\, 3615 Roberts Rd.\, Colorado Springs\, CO\, 80907\, United States
ATTACH;FMTTYPE=image/webp:https://embrave.org/wp-content/uploads/2025/01/7-Habits-Flyer.webp
ORGANIZER;CN="Embrave":MAILTO:wernst@embrave.org
END:VEVENT
BEGIN:VEVENT
DTSTART;TZID=America/Denver:20250203T120000
DTEND;TZID=America/Denver:20250203T143000
DTSTAMP:20260422T194116
CREATED:20250114T230131Z
LAST-MODIFIED:20250115T213910Z
UID:10000005-1738584000-1738593000@embrave.org
SUMMARY:Pathfinder Infinite
DESCRIPTION:
URL:https://embrave.org/event/pathfinder-infinite-2/2025-02-03/
LOCATION:Roberts Road Cafeteria\, 3615 Roberts Rd.\, Colorado Springs\, CO\, 80907\, United States
ATTACH;FMTTYPE=image/webp:https://embrave.org/wp-content/uploads/2025/01/Pathfinder-Mythic-Powers-scaled.webp
ORGANIZER;CN="Embrave":MAILTO:wernst@embrave.org
END:VEVENT
BEGIN:VEVENT
DTSTART;TZID=America/Denver:20250208T090000
DTEND;TZID=America/Denver:20250208T220000
DTSTAMP:20260422T194116
CREATED:20250116T003832Z
LAST-MODIFIED:20250116T003832Z
UID:10000267-1739005200-1739052000@embrave.org
SUMMARY:7 Habits of Highly Effective People
DESCRIPTION:Transform your life with 7 Habits!
URL:https://embrave.org/event/7-habits-of-highly-effective-people/2025-02-08/
LOCATION:Roberts Road Cafeteria\, 3615 Roberts Rd.\, Colorado Springs\, CO\, 80907\, United States
ATTACH;FMTTYPE=image/webp:https://embrave.org/wp-content/uploads/2025/01/7-Habits-Flyer.webp
ORGANIZER;CN="Embrave":MAILTO:wernst@embrave.org
END:VEVENT
BEGIN:VEVENT
DTSTART;TZID=America/Denver:20250208T120000
DTEND;TZID=America/Denver:20250208T160000
DTSTAMP:20260422T194116
CREATED:20250125T124506Z
LAST-MODIFIED:20250125T124541Z
UID:10000584-1739016000-1739030400@embrave.org
SUMMARY:Junk Journaling With Sara
DESCRIPTION:Thanks for your patience! Let’s create!
URL:https://embrave.org/event/junk-journaling-with-sara-rescheduled/
LOCATION:Roberts Road Cafeteria\, 3615 Roberts Rd.\, Colorado Springs\, CO\, 80907\, United States
ATTACH;FMTTYPE=image/webp:https://embrave.org/wp-content/uploads/2025/01/Junk-Journaling-Flyer.webp
ORGANIZER;CN="Embrave":MAILTO:wernst@embrave.org
END:VEVENT
BEGIN:VEVENT
DTSTART;TZID=America/Denver:20250210T120000
DTEND;TZID=America/Denver:20250210T143000
DTSTAMP:20260422T194116
CREATED:20250114T230131Z
LAST-MODIFIED:20250115T213910Z
UID:10000006-1739188800-1739197800@embrave.org
SUMMARY:Pathfinder Infinite
DESCRIPTION:
URL:https://embrave.org/event/pathfinder-infinite-2/2025-02-10/
LOCATION:Roberts Road Cafeteria\, 3615 Roberts Rd.\, Colorado Springs\, CO\, 80907\, United States
ATTACH;FMTTYPE=image/webp:https://embrave.org/wp-content/uploads/2025/01/Pathfinder-Mythic-Powers-scaled.webp
ORGANIZER;CN="Embrave":MAILTO:wernst@embrave.org
END:VEVENT
BEGIN:VEVENT
DTSTART;TZID=America/Denver:20250215T090000
DTEND;TZID=America/Denver:20250215T220000
DTSTAMP:20260422T194116
CREATED:20250116T003832Z
LAST-MODIFIED:20250116T003832Z
UID:10000268-1739610000-1739656800@embrave.org
SUMMARY:7 Habits of Highly Effective People
DESCRIPTION:Transform your life with 7 Habits!
URL:https://embrave.org/event/7-habits-of-highly-effective-people/2025-02-15/
LOCATION:Roberts Road Cafeteria\, 3615 Roberts Rd.\, Colorado Springs\, CO\, 80907\, United States
ATTACH;FMTTYPE=image/webp:https://embrave.org/wp-content/uploads/2025/01/7-Habits-Flyer.webp
ORGANIZER;CN="Embrave":MAILTO:wernst@embrave.org
END:VEVENT
BEGIN:VEVENT
DTSTART;TZID=America/Denver:20250217T120000
DTEND;TZID=America/Denver:20250217T143000
DTSTAMP:20260422T194116
CREATED:20250114T230131Z
LAST-MODIFIED:20250115T213910Z
UID:10000007-1739793600-1739802600@embrave.org
SUMMARY:Pathfinder Infinite
DESCRIPTION:
URL:https://embrave.org/event/pathfinder-infinite-2/2025-02-17/
LOCATION:Roberts Road Cafeteria\, 3615 Roberts Rd.\, Colorado Springs\, CO\, 80907\, United States
ATTACH;FMTTYPE=image/webp:https://embrave.org/wp-content/uploads/2025/01/Pathfinder-Mythic-Powers-scaled.webp
ORGANIZER;CN="Embrave":MAILTO:wernst@embrave.org
END:VEVENT
BEGIN:VEVENT
DTSTART;TZID=America/Denver:20250222T090000
DTEND;TZID=America/Denver:20250222T220000
DTSTAMP:20260422T194116
CREATED:20250116T003832Z
LAST-MODIFIED:20250116T003832Z
UID:10000269-1740214800-1740261600@embrave.org
SUMMARY:7 Habits of Highly Effective People
DESCRIPTION:Transform your life with 7 Habits!
URL:https://embrave.org/event/7-habits-of-highly-effective-people/2025-02-22/
LOCATION:Roberts Road Cafeteria\, 3615 Roberts Rd.\, Colorado Springs\, CO\, 80907\, United States
ATTACH;FMTTYPE=image/webp:https://embrave.org/wp-content/uploads/2025/01/7-Habits-Flyer.webp
ORGANIZER;CN="Embrave":MAILTO:wernst@embrave.org
END:VEVENT
BEGIN:VEVENT
DTSTART;TZID=America/Denver:20250224T120000
DTEND;TZID=America/Denver:20250224T143000
DTSTAMP:20260422T194116
CREATED:20250114T230131Z
LAST-MODIFIED:20250115T213910Z
UID:10000008-1740398400-1740407400@embrave.org
SUMMARY:Pathfinder Infinite
DESCRIPTION:
URL:https://embrave.org/event/pathfinder-infinite-2/2025-02-24/
LOCATION:Roberts Road Cafeteria\, 3615 Roberts Rd.\, Colorado Springs\, CO\, 80907\, United States
ATTACH;FMTTYPE=image/webp:https://embrave.org/wp-content/uploads/2025/01/Pathfinder-Mythic-Powers-scaled.webp
ORGANIZER;CN="Embrave":MAILTO:wernst@embrave.org
END:VEVENT
END:VCALENDAR